{ "currentVersion": 10.91, "serviceDescription": "
Servei de mapa que mostra l'ortofotografia de 15 cm/px feta a partir de la fotografia aèria del vol de distància de mostreig del sòl (GSD) 18 cm realitzat entre el 29 de març de 2023 i el 9 de maig de 2023.<\/span><\/p> (ES) Servicio de mapa que muestra la ortofotografía de 15 cm/px hecha a partir de la fotografía aérea del vuelo de distancia de muestreo del suelo (GSD) 18 cm realizado entre el 29 de marzo de 2023 y el 9 de mayo de 2023.<\/span><\/p> (EN) Map service showing the 15 cm/px orthophoto taken from the 18 cm Ground Sampling Distance (GSD) flight aerial photography taken between 29 March 2023 and 9 May 2023.<\/span><\/p><\/div><\/div>",
"name": "imatges/GOIB_Ortofoto_2023_IB",
"description": " Servei de mapa que mostra l'ortofotografia de 15 cm/px feta a partir de la fotografia aèria del vol de distància de mostreig del sòl (GSD) 18 cm realitzat entre el 29 de març de 2023 i el 9 de maig de 2023.<\/span><\/p> (ES) Servicio de mapa que muestra la ortofotografía de 15 cm/px hecha a partir de la fotografía aérea del vuelo de distancia de muestreo del suelo (GSD) 18 cm realizado entre el 29 de marzo de 2023 y el 9 de mayo de 2023.<\/span><\/p> (EN) Map service showing the 15 cm/px orthophoto taken from the 18 cm Ground Sampling Distance (GSD) flight aerial photography taken between 29 March 2023 and 9 May 2023.<\/span><\/p><\/div><\/div>",
"extent": {
"xmin": 339060,
"ymin": 4276290,
"xmax": 615870,
"ymax": 4439940,
"spatialReference": {
"wkid": 25831,
"latestWkid": 25831
}
},
"initialExtent": {
"xmin": 339060,
"ymin": 4276290,
"xmax": 615870,
"ymax": 4439940,
"spatialReference": {
"wkid": 25831,
"latestWkid": 25831
}
},
"fullExtent": {
"xmin": 339060,
"ymin": 4276290,
"xmax": 615870,
"ymax": 4439940,
"spatialReference": {
"wkid": 25831,
"latestWkid": 25831
}
},
"hasMultidimensions": false,
"pixelSizeX": 0.15,
"pixelSizeY": 0.15,
"datasetFormat": "AMD",
"uncompressedSize": 6039994200000,
"blockWidth": 2048,
"blockHeight": 256,
"compressionType": "None",
"bandNames": [
"Red",
"Green",
"Blue"
],
"allowCopy": true,
"allowAnalysis": true,
"bandCount": 3,
"pixelType": "U8",
"minPixelSize": 0,
"maxPixelSize": 0,
"copyrightText": "Mapa de fons: Orto 2023 - www.icgib.org",
"serviceDataType": "esriImageServiceDataTypeRGB",
"serviceSourceType": "esriImageServiceSourceTypeMosaicDataset",
"minValues": [
0,
4,
25
],
"maxValues": [
238,
237,
237
],
"meanValues": [
102.8160785710386,
110.06564023888978,
108.50145882417577
],
"stdvValues": [
48.90976705948767,
40.69371034985373,
26.77602497950857
],
"objectIdField": "OBJECTID",
"fields": [
{
"name": "OBJECTID",
"type": "esriFieldTypeOID",
"alias": "OBJECTID",
"domain": null
},
{
"name": "NAME",
"type": "esriFieldTypeString",
"alias": "NAME",
"domain": null,
"length": 200
},
{
"name": "MINPS",
"type": "esriFieldTypeDouble",
"alias": "MINPS",
"domain": null
},
{
"name": "MAXPS",
"type": "esriFieldTypeDouble",
"alias": "MAXPS",
"domain": null
},
{
"name": "LOWPS",
"type": "esriFieldTypeDouble",
"alias": "LOWPS",
"domain": null
},
{
"name": "HIGHPS",
"type": "esriFieldTypeDouble",
"alias": "HIGHPS",
"domain": null
},
{
"name": "CATEGORY",
"type": "esriFieldTypeInteger",
"alias": "CATEGORY",
"domain": {
"type": "codedValue",
"name": "MosaicCatalogItemCategoryDomain",
"description": "Catalog item categories.",
"codedValues": [
{
"name": "Unknown",
"code": 0
},
{
"name": "Primary",
"code": 1
},
{
"name": "Overview",
"code": 2
},
{
"name": "Unprocessed Overview",
"code": 3
},
{
"name": "Partial Overview",
"code": 4
},
{
"name": "Inactive",
"code": 5
},
{
"name": "Uploaded",
"code": 253
},
{
"name": "Incomplete",
"code": 254
},
{
"name": "Custom",
"code": 255
}
],
"mergePolicy": "esriMPTDefaultValue",
"splitPolicy": "esriSPTDefaultValue"
}
},
{
"name": "TAG",
"type": "esriFieldTypeString",
"alias": "TAG",
"domain": null,
"length": 100
},
{
"name": "GROUPNAME",
"type": "esriFieldTypeString",
"alias": "GROUPNAME",
"domain": null,
"length": 100
},
{
"name": "PRODUCTNAME",
"type": "esriFieldTypeString",
"alias": "PRODUCTNAME",
"domain": null,
"length": 100
},
{
"name": "CENTERX",
"type": "esriFieldTypeDouble",
"alias": "CENTERX",
"domain": null
},
{
"name": "CENTERY",
"type": "esriFieldTypeDouble",
"alias": "CENTERY",
"domain": null
},
{
"name": "ZORDER",
"type": "esriFieldTypeInteger",
"alias": "ZORDER",
"domain": null
},
{
"name": "SHAPE",
"type": "esriFieldTypeGeometry",
"alias": "SHAPE",
"domain": null
},
{
"name": "SHAPE.AREA",
"type": "esriFieldTypeDouble",
"alias": "SHAPE.AREA",
"domain": null
},
{
"name": "SHAPE.LEN",
"type": "esriFieldTypeDouble",
"alias": "SHAPE.LEN",
"domain": null
}
],
"capabilities": "Catalog,Download,Image,Metadata",
"defaultMosaicMethod": "Northwest",
"allowedMosaicMethods": "NorthWest,Center,LockRaster,ByAttribute,Nadir,Viewpoint,Seamline,None",
"sortField": "",
"sortValue": null,
"sortAscending": true,
"mosaicOperator": "First",
"maxDownloadSizeLimit": 2048,
"defaultCompressionQuality": 75,
"defaultResamplingMethod": "Bilinear",
"maxImageHeight": 4100,
"maxImageWidth": 15000,
"maxRecordCount": 1000,
"maxDownloadImageCount": 20,
"maxMosaicImageCount": 20,
"allowRasterFunction": true,
"rasterFunctionInfos": [
{
"name": "RFT_Orto",
"description": "A raster function template.",
"help": ""
},
{
"name": "None",
"description": "Make a Raster or Raster Dataset into a Function Raster Dataset.",
"help": ""
}
],
"rasterTypeInfos": [
{
"name": "Raster Dataset",
"description": "Compatible con todos los datasets de rásteres de ArcGIS",
"help": ""
}
],
"mensurationCapabilities": "None",
"hasHistograms": true,
"hasColormap": false,
"hasRasterAttributeTable": false,
"minScale": 0,
"maxScale": 0,
"exportTilesAllowed": false,
"supportsStatistics": true,
"supportsAdvancedQueries": true,
"editFieldsInfo": null,
"ownershipBasedAccessControlForRasters": null,
"allowComputeTiePoints": false,
"useStandardizedQueries": true,
"advancedQueryCapabilities": {
"useStandardizedQueries": true,
"supportsStatistics": true,
"supportsOrderBy": true,
"supportsDistinct": true,
"supportsPagination": true
},
"spatialReference": {
"wkid": 25831,
"latestWkid": 25831
}
}