View In:
ArcGIS JavaScript
Portal ideIB
ArcGIS Earth
ArcMap
View Footprint In:
Portal ideIB
Service Description: Ortofotografia de 25 cm/px feta a partir de la fotografia aèria del vol de distància de mostreig del sòl (GSD) 22 cm realitzat entre el 30 de maig de 2024 i el 3 de juny de 2024.
Name: imatges/PNOA_2024_BAL_22_25cm
Description: Ortofotografia de 25 cm/px feta a partir de la fotografia aèria del vol de distància de mostreig del sòl (GSD) 22 cm realitzat entre el 30 de maig de 2024 i el 3 de juny de 2024.
Single Fused Map Cache: false
Extent:
XMin: 339050.0
YMin: 4276270.0
XMax: 615890.0
YMax: 4439960.0
Spatial Reference: 25831
(25831)
LatestVCSWkid(0)
Initial Extent:
XMin: 339050.0
YMin: 4276270.0
XMax: 615890.0
YMax: 4439960.0
Spatial Reference: 25831
(25831)
LatestVCSWkid(0)
Full Extent:
XMin: 339050.0
YMin: 4276270.0
XMax: 615890.0
YMax: 4439960.0
Spatial Reference: 25831
(25831)
LatestVCSWkid(0)
Pixel Size X: 0.25
Pixel Size Y: 0.25
Band Count: 3
Pixel Type: U8
RasterFunction Infos: {"rasterFunctionInfos": [
{
"name": "RFT_Orto",
"description": "A raster function template.",
"help": ""
},
{
"name": "None",
"description": "",
"help": ""
}
]}
Mensuration Capabilities: None
Has Histograms: true
Has Colormap: false
Has Multi Dimensions : false
Rendering Rule:
Min Scale: 0
Max Scale: 0
Copyright Text: Mapa de fons: Orto 2024 - www.scne.es
Service Data Type: esriImageServiceDataTypeRGB
Min Values: 5, 10, 17
Max Values: 222, 229, 213
Mean Values: 97.37724657169677, 97.99333110354375, 90.1280059521779
Standard Deviation Values: 40.16690721111073, 32.21956292982572, 24.633041228528985
Object ID Field: OBJECTID
Fields:
-
OBJECTID
(
type: esriFieldTypeOID, alias: OBJECTID
)
-
Shape
(
type: esriFieldTypeGeometry, alias: Shape
)
-
Name
(
type: esriFieldTypeString, alias: Name, length: 200
)
-
MinPS
(
type: esriFieldTypeDouble, alias: MinPS
)
-
MaxPS
(
type: esriFieldTypeDouble, alias: MaxPS
)
-
LowPS
(
type: esriFieldTypeDouble, alias: LowPS
)
-
HighPS
(
type: esriFieldTypeDouble, alias: HighPS
)
-
Category
(
type: esriFieldTypeInteger, alias: Category
, Coded Values:
[0: Unknown]
, [1: Primary]
, [2: Overview]
, ...6 more...
)
-
Tag
(
type: esriFieldTypeString, alias: Tag, length: 100
)
-
GroupName
(
type: esriFieldTypeString, alias: GroupName, length: 100
)
-
ProductName
(
type: esriFieldTypeString, alias: ProductName, length: 100
)
-
CenterX
(
type: esriFieldTypeDouble, alias: CenterX
)
-
CenterY
(
type: esriFieldTypeDouble, alias: CenterY
)
-
ZOrder
(
type: esriFieldTypeInteger, alias: ZOrder
)
-
Shape_Length
(
type: esriFieldTypeDouble, alias: Shape_Length
)
-
Shape_Area
(
type: esriFieldTypeDouble, alias: Shape_Area
)
Default Mosaic Method: Northwest
Allowed Mosaic Methods: NorthWest,Center,LockRaster,ByAttribute,Nadir,Viewpoint,Seamline,None
SortField:
SortValue: null
Mosaic Operator: First
Default Compression Quality: 75
Default Resampling Method: Bilinear
Max Record Count: 1000
Max Image Height: 4100
Max Image Width: 15000
Max Download Image Count: 20
Max Mosaic Image Count: 20
Allow Raster Function: true
Allow Copy: true
Allow Analysis: true
Allow Compute TiePoints: false
Supports Statistics: true
Supports Advanced Queries: true
Use StandardizedQueries: true
Raster Type Infos:
Name: Raster Dataset
Description: Compatible con todos los datasets de rásteres de ArcGIS
Help:
Has Raster Attribute Table: false
Edit Fields Info: null
Ownership Based AccessControl For Rasters: null
Child Resources:
Info
Histograms
Statistics
Key Properties
Legend
Raster Function Infos
Supported Operations:
Export Image
Query
Identify
Compute Histograms
Compute Statistics Histograms
Get Samples
Compute Class Statistics
Query Boundary
Compute Pixel Location
Compute Angles
Validate
Project