View In:
ArcGIS JavaScript
ArcGIS Online Map Viewer
ArcGIS Earth
ArcMap
View Footprint In:
ArcGIS Online Map Viewer
Service Description: imatges/O_IB23_image
Name: imatges/O_IB23_image
Description:
Single Fused Map Cache: true
Tile Info:
- Height: 256
- Width: 256
- DPI: 96
-
Levels of Detail: 17
- Format: MIXED
- Compression Quality: 75.0
- LERC Error: NaN
- Origin: X: -5120900.0
Y: 9998100.0
- Spatial Reference: 25831
(25831)
LatestVCSWkid(0)
Storage Info:
- Storage Format: esriMapCacheStorageModeCompactV2
- Packet Size: 128
Extent:
XMin: 339060.0
YMin: 4276290.0
XMax: 615870.0
YMax: 4439940.0
Spatial Reference: 25831
(25831)
LatestVCSWkid(0)
Initial Extent:
XMin: 339060.0
YMin: 4276290.0
XMax: 615870.0
YMax: 4439940.0
Spatial Reference: 25831
(25831)
LatestVCSWkid(0)
Full Extent:
XMin: 339060.0
YMin: 4276290.0
XMax: 615870.0
YMax: 4439940.0
Spatial Reference: 25831
(25831)
LatestVCSWkid(0)
Pixel Size X: 0.15
Pixel Size Y: 0.15
Band Count: 3
Pixel Type: U8
RasterFunction Infos: {"rasterFunctionInfos": [
{
"name": "None",
"description": "Make a Raster or Raster Dataset into a Function Raster Dataset.",
"help": ""
},
{
"name": "None",
"description": "Make a Raster or Raster Dataset into a Function Raster Dataset.",
"help": ""
}
]}
Mensuration Capabilities: None
Has Histograms: true
Has Colormap: false
Has Multi Dimensions : false
Rendering Rule:
Min Scale: 3000000
Max Scale: 500
Copyright Text:
Service Data Type: esriImageServiceDataTypeRGB
Min Values: 0, 4, 25
Max Values: 238, 237, 237
Mean Values: 102.8160785710386, 110.06564023888978, 108.50145882417577
Standard Deviation Values: 48.90976705948767, 40.69371034985373, 26.77602497950857
Object ID Field: OBJECTID
Fields:
-
OBJECTID
(
type: esriFieldTypeOID, alias: OBJECTID
)
-
NAME
(
type: esriFieldTypeString, alias: NAME, length: 200
)
-
MINPS
(
type: esriFieldTypeDouble, alias: MINPS
)
-
MAXPS
(
type: esriFieldTypeDouble, alias: MAXPS
)
-
LOWPS
(
type: esriFieldTypeDouble, alias: LOWPS
)
-
HIGHPS
(
type: esriFieldTypeDouble, alias: HIGHPS
)
-
CATEGORY
(
type: esriFieldTypeInteger, alias: CATEGORY
, Coded Values:
[0: Unknown]
, [1: Primary]
, [2: Overview]
, ...6 more...
)
-
TAG
(
type: esriFieldTypeString, alias: TAG, length: 100
)
-
GROUPNAME
(
type: esriFieldTypeString, alias: GROUPNAME, length: 100
)
-
PRODUCTNAME
(
type: esriFieldTypeString, alias: PRODUCTNAME, length: 100
)
-
CENTERX
(
type: esriFieldTypeDouble, alias: CENTERX
)
-
CENTERY
(
type: esriFieldTypeDouble, alias: CENTERY
)
-
ZORDER
(
type: esriFieldTypeInteger, alias: ZORDER
)
-
SHAPE
(
type: esriFieldTypeGeometry, alias: SHAPE
)
-
SHAPE.AREA
(
type: esriFieldTypeDouble, alias: SHAPE.AREA
)
-
SHAPE.LEN
(
type: esriFieldTypeDouble, alias: SHAPE.LEN
)
Default Mosaic Method: Northwest
Allowed Mosaic Methods: NorthWest,Center,LockRaster,ByAttribute,Nadir,Viewpoint,Seamline,None
SortField:
SortValue: null
Mosaic Operator: First
Default Compression Quality: 75
Default Resampling Method: Bilinear
Max Record Count: 1000
Max Image Height: 4100
Max Image Width: 15000
Max Download Image Count: 20
Max Mosaic Image Count: 20
Allow Raster Function: true
Allow Copy: true
Allow Analysis: true
Allow Compute TiePoints: false
Supports Statistics: true
Supports Advanced Queries: true
Use StandardizedQueries: true
Raster Type Infos:
Name: Raster Dataset
Description: Supports all ArcGIS Raster Datasets
Help:
Has Raster Attribute Table: false
Edit Fields Info: null
Ownership Based AccessControl For Rasters: null
Child Resources:
Info
Histograms
Statistics
Key Properties
Legend
Raster Function Infos
Supported Operations:
Export Image
Query
Identify
Download Rasters
Compute Histograms
Compute Statistics Histograms
Get Samples
Compute Class Statistics
Query Boundary
Compute Pixel Location
Compute Angles
Validate
Project