View In:
ArcGIS JavaScript
Portal ideIB
ArcGIS Earth
ArcMap
View Footprint In:
Portal ideIB
Service Description: Servei de mapa que mostra l'ortofotografia de 15 cm/px feta a partir de la fotografia aèria del vol de distància de mostreig del sòl (GSD) 18 cm realitzat entre el 29 de març de 2023 i el 9 de maig de 2023.
(ES) Servicio de mapa que muestra la ortofotografía de 15 cm/px hecha a partir de la fotografía aérea del vuelo de distancia de muestreo del suelo (GSD) 18 cm realizado entre el 29 de marzo de 2023 y el 9 de mayo de 2023.
(EN) Map service showing the 15 cm/px orthophoto taken from the 18 cm Ground Sampling Distance (GSD) flight aerial photography taken between 29 March 2023 and 9 May 2023.
Name: imatges/GOIB_Ortofoto_2023_IB
Description: Servei de mapa que mostra l'ortofotografia de 15 cm/px feta a partir de la fotografia aèria del vol de distància de mostreig del sòl (GSD) 18 cm realitzat entre el 29 de març de 2023 i el 9 de maig de 2023.
(ES) Servicio de mapa que muestra la ortofotografía de 15 cm/px hecha a partir de la fotografía aérea del vuelo de distancia de muestreo del suelo (GSD) 18 cm realizado entre el 29 de marzo de 2023 y el 9 de mayo de 2023.
(EN) Map service showing the 15 cm/px orthophoto taken from the 18 cm Ground Sampling Distance (GSD) flight aerial photography taken between 29 March 2023 and 9 May 2023.
Single Fused Map Cache: false
Extent:
XMin: 339060.0
YMin: 4276290.0
XMax: 615870.0
YMax: 4439940.0
Spatial Reference: 25831
(25831)
LatestVCSWkid(0)
Initial Extent:
XMin: 339060.0
YMin: 4276290.0
XMax: 615870.0
YMax: 4439940.0
Spatial Reference: 25831
(25831)
LatestVCSWkid(0)
Full Extent:
XMin: 339060.0
YMin: 4276290.0
XMax: 615870.0
YMax: 4439940.0
Spatial Reference: 25831
(25831)
LatestVCSWkid(0)
Pixel Size X: 0.15
Pixel Size Y: 0.15
Band Count: 3
Pixel Type: U8
RasterFunction Infos: {"rasterFunctionInfos": [
{
"name": "RFT_Orto",
"description": "A raster function template.",
"help": ""
},
{
"name": "None",
"description": "Make a Raster or Raster Dataset into a Function Raster Dataset.",
"help": ""
}
]}
Mensuration Capabilities: None
Has Histograms: true
Has Colormap: false
Has Multi Dimensions : false
Rendering Rule:
Min Scale: 0
Max Scale: 0
Copyright Text: Mapa de fons: Orto 2023 - www.icgib.org
Service Data Type: esriImageServiceDataTypeRGB
Min Values: 0, 4, 25
Max Values: 238, 237, 237
Mean Values: 102.8160785710386, 110.06564023888978, 108.50145882417577
Standard Deviation Values: 48.90976705948767, 40.69371034985373, 26.77602497950857
Object ID Field: OBJECTID
Fields:
-
OBJECTID
(
type: esriFieldTypeOID, alias: OBJECTID
)
-
NAME
(
type: esriFieldTypeString, alias: NAME, length: 200
)
-
MINPS
(
type: esriFieldTypeDouble, alias: MINPS
)
-
MAXPS
(
type: esriFieldTypeDouble, alias: MAXPS
)
-
LOWPS
(
type: esriFieldTypeDouble, alias: LOWPS
)
-
HIGHPS
(
type: esriFieldTypeDouble, alias: HIGHPS
)
-
CATEGORY
(
type: esriFieldTypeInteger, alias: CATEGORY
, Coded Values:
[0: Unknown]
, [1: Primary]
, [2: Overview]
, ...6 more...
)
-
TAG
(
type: esriFieldTypeString, alias: TAG, length: 100
)
-
GROUPNAME
(
type: esriFieldTypeString, alias: GROUPNAME, length: 100
)
-
PRODUCTNAME
(
type: esriFieldTypeString, alias: PRODUCTNAME, length: 100
)
-
CENTERX
(
type: esriFieldTypeDouble, alias: CENTERX
)
-
CENTERY
(
type: esriFieldTypeDouble, alias: CENTERY
)
-
ZORDER
(
type: esriFieldTypeInteger, alias: ZORDER
)
-
SHAPE
(
type: esriFieldTypeGeometry, alias: SHAPE
)
-
SHAPE.AREA
(
type: esriFieldTypeDouble, alias: SHAPE.AREA
)
-
SHAPE.LEN
(
type: esriFieldTypeDouble, alias: SHAPE.LEN
)
Default Mosaic Method: Northwest
Allowed Mosaic Methods: NorthWest,Center,LockRaster,ByAttribute,Nadir,Viewpoint,Seamline,None
SortField:
SortValue: null
Mosaic Operator: First
Default Compression Quality: 75
Default Resampling Method: Bilinear
Max Record Count: 1000
Max Image Height: 4100
Max Image Width: 15000
Max Download Image Count: 20
Max Mosaic Image Count: 20
Allow Raster Function: true
Allow Copy: true
Allow Analysis: true
Allow Compute TiePoints: false
Supports Statistics: true
Supports Advanced Queries: true
Use StandardizedQueries: true
Raster Type Infos:
Name: Raster Dataset
Description: Compatible con todos los datasets de rásteres de ArcGIS
Help:
Has Raster Attribute Table: false
Edit Fields Info: null
Ownership Based AccessControl For Rasters: null
Child Resources:
Info
Histograms
Statistics
Key Properties
Legend
Raster Function Infos
Supported Operations:
Export Image
Query
Identify
Download Rasters
Compute Histograms
Compute Statistics Histograms
Get Samples
Compute Class Statistics
Query Boundary
Compute Pixel Location
Compute Angles
Validate
Project